Workbook

Sheet Calendar
A1: Bombay Productivity Council - Program Calendar
A3: Year | B3: 2026 | D3: Edit the yellow cells to change the month.
A4: Month (1-12) | B4: 10 | D4: Add programs in the Programs sheet; their dates highlight here.
A5: Programs: | B5: =SUMPRODUCT((MONTH(Programs!$A$2:$A$200)=$B$4)*(YEAR(Programs!$A$2:$A$200)=$B$3)*(Programs!$A$2:$A$200<>"")) -> 1
A7: =TEXT(DATE($B$3,$B$4,1),"mmmm yyyy") -> October 2026
A8: Sun | B8: Mon | C8: Tue | D8: Wed | E8: Thu | F8: Fri | G8: Sat
A9: =DATE($B$3,$B$4,1)-WEEKDAY(DATE($B$3,$B$4,1),1)+1+0 -> 46292 | B9: =DATE($B$3,$B$4,1)-WEEKDAY(DATE($B$3,$B$4,1),1)+1+1 -> 46293 | C9: =DATE($B$3,$B$4,1)-WEEKDAY(DATE($B$3,$B$4,1),1)+1+2 -> 46294 | D9: =DATE($B$3,$B$4,1)-WEEKDAY(DATE($B$3,$B$4,1),1)+1+3 -> 46295 | E9: =DATE($B$3,$B$4,1)-WEEKDAY(DATE($B$3,$B$4,1),1)+1+4 -> 46296 | F9: =DATE($B$3,$B$4,1)-WEEKDAY(DATE($B$3,$B$4,1),1)+1+5 -> 46297 | G9: =DATE($B$3,$B$4,1)-WEEKDAY(DATE($B$3,$B$4,1),1)+1+6 -> 46298
A10: =IFERROR(INDEX(Programs!$B$2:$B$200,MATCH(A9,Programs!$A$2:$A$200,0)),"") | B10: =IFERROR(INDEX(Programs!$B$2:$B$200,MATCH(B9,Programs!$A$2:$A$200,0)),"") | C10: =IFERROR(INDEX(Programs!$B$2:$B$200,MATCH(C9,Programs!$A$2:$A$200,0)),"") | D10: =IFERROR(INDEX(Programs!$B$2:$B$200,MATCH(D9,Programs!$A$2:$A$200,0)),"") | E10: =IFERROR(INDEX(Programs!$B$2:$B$200,MATCH(E9,Programs!$A$2:$A$200,0)),"") | F10: =IFERROR(INDEX(Programs!$B$2:$B$200,MATCH(F9,Programs!$A$2:$A$200,0)),"") | G10: =IFERROR(INDEX(Programs!$B$2:$B$200,MATCH(G9,Programs!$A$2:$A$200,0)),"")
A11: =DATE($B$3,$B$4,1)-WEEKDAY(DATE($B$3,$B$4,1),1)+1+7 -> 46299 | B11: =DATE($B$3,$B$4,1)-WEEKDAY(DATE($B$3,$B$4,1),1)+1+8 -> 46300 | C11: =DATE($B$3,$B$4,1)-WEEKDAY(DATE($B$3,$B$4,1),1)+1+9 -> 46301 | D11: =DATE($B$3,$B$4,1)-WEEKDAY(DATE($B$3,$B$4,1),1)+1+10 -> 46302 | E11: =DATE($B$3,$B$4,1)-WEEKDAY(DATE($B$3,$B$4,1),1)+1+11 -> 46303 | F11: =DATE($B$3,$B$4,1)-WEEKDAY(DATE($B$3,$B$4,1),1)+1+12 -> 46304 | G11: =DATE($B$3,$B$4,1)-WEEKDAY(DATE($B$3,$B$4,1),1)+1+13 -> 46305
A12: =IFERROR(INDEX(Programs!$B$2:$B$200,MATCH(A11,Programs!$A$2:$A$200,0)),"") | B12: =IFERROR(INDEX(Programs!$B$2:$B$200,MATCH(B11,Programs!$A$2:$A$200,0)),"") | C12: =IFERROR(INDEX(Programs!$B$2:$B$200,MATCH(C11,Programs!$A$2:$A$200,0)),"") | D12: =IFERROR(INDEX(Programs!$B$2:$B$200,MATCH(D11,Programs!$A$2:$A$200,0)),"") | E12: =IFERROR(INDEX(Programs!$B$2:$B$200,MATCH(E11,Programs!$A$2:$A$200,0)),"") | F12: =IFERROR(INDEX(Programs!$B$2:$B$200,MATCH(F11,Programs!$A$2:$A$200,0)),"") | G12: =IFERROR(INDEX(Programs!$B$2:$B$200,MATCH(G11,Programs!$A$2:$A$200,0)),"")
A13: =DATE($B$3,$B$4,1)-WEEKDAY(DATE($B$3,$B$4,1),1)+1+14 -> 46306 | B13: =DATE($B$3,$B$4,1)-WEEKDAY(DATE($B$3,$B$4,1),1)+1+15 -> 46307 | C13: =DATE($B$3,$B$4,1)-WEEKDAY(DATE($B$3,$B$4,1),1)+1+16 -> 46308 | D13: =DATE($B$3,$B$4,1)-WEEKDAY(DATE($B$3,$B$4,1),1)+1+17 -> 46309 | E13: =DATE($B$3,$B$4,1)-WEEKDAY(DATE($B$3,$B$4,1),1)+1+18 -> 46310 | F13: =DATE($B$3,$B$4,1)-WEEKDAY(DATE($B$3,$B$4,1),1)+1+19 -> 46311 | G13: =DATE($B$3,$B$4,1)-WEEKDAY(DATE($B$3,$B$4,1),1)+1+20 -> 46312
A14: =IFERROR(INDEX(Programs!$B$2:$B$200,MATCH(A13,Programs!$A$2:$A$200,0)),"") | B14: =IFERROR(INDEX(Programs!$B$2:$B$200,MATCH(B13,Programs!$A$2:$A$200,0)),"") | C14: =IFERROR(INDEX(Programs!$B$2:$B$200,MATCH(C13,Programs!$A$2:$A$200,0)),"") | D14: =IFERROR(INDEX(Programs!$B$2:$B$200,MATCH(D13,Programs!$A$2:$A$200,0)),"") | E14: =IFERROR(INDEX(Programs!$B$2:$B$200,MATCH(E13,Programs!$A$2:$A$200,0)),"") -> EXAMPLE - Time & Motion Study workshop | F14: =IFERROR(INDEX(Programs!$B$2:$B$200,MATCH(F13,Programs!$A$2:$A$200,0)),"") | G14: =IFERROR(INDEX(Programs!$B$2:$B$200,MATCH(G13,Programs!$A$2:$A$200,0)),"")
A15: =DATE($B$3,$B$4,1)-WEEKDAY(DATE($B$3,$B$4,1),1)+1+21 -> 46313 | B15: =DATE($B$3,$B$4,1)-WEEKDAY(DATE($B$3,$B$4,1),1)+1+22 -> 46314 | C15: =DATE($B$3,$B$4,1)-WEEKDAY(DATE($B$3,$B$4,1),1)+1+23 -> 46315 | D15: =DATE($B$3,$B$4,1)-WEEKDAY(DATE($B$3,$B$4,1),1)+1+24 -> 46316 | E15: =DATE($B$3,$B$4,1)-WEEKDAY(DATE($B$3,$B$4,1),1)+1+25 -> 46317 | F15: =DATE($B$3,$B$4,1)-WEEKDAY(DATE($B$3,$B$4,1),1)+1+26 -> 46318 | G15: =DATE($B$3,$B$4,1)-WEEKDAY(DATE($B$3,$B$4,1),1)+1+27 -> 46319
A16: =IFERROR(INDEX(Programs!$B$2:$B$200,MATCH(A15,Programs!$A$2:$A$200,0)),"") | B16: =IFERROR(INDEX(Programs!$B$2:$B$200,MATCH(B15,Programs!$A$2:$A$200,0)),"") | C16: =IFERROR(INDEX(Programs!$B$2:$B$200,MATCH(C15,Programs!$A$2:$A$200,0)),"") | D16: =IFERROR(INDEX(Programs!$B$2:$B$200,MATCH(D15,Programs!$A$2:$A$200,0)),"") | E16: =IFERROR(INDEX(Programs!$B$2:$B$200,MATCH(E15,Programs!$A$2:$A$200,0)),"") | F16: =IFERROR(INDEX(Programs!$B$2:$B$200,MATCH(F15,Programs!$A$2:$A$200,0)),"") | G16: =IFERROR(INDEX(Programs!$B$2:$B$200,MATCH(G15,Programs!$A$2:$A$200,0)),"")
A17: =DATE($B$3,$B$4,1)-WEEKDAY(DATE($B$3,$B$4,1),1)+1+28 -> 46320 | B17: =DATE($B$3,$B$4,1)-WEEKDAY(DATE($B$3,$B$4,1),1)+1+29 -> 46321 | C17: =DATE($B$3,$B$4,1)-WEEKDAY(DATE($B$3,$B$4,1),1)+1+30 -> 46322 | D17: =DATE($B$3,$B$4,1)-WEEKDAY(DATE($B$3,$B$4,1),1)+1+31 -> 46323 | E17: =DATE($B$3,$B$4,1)-WEEKDAY(DATE($B$3,$B$4,1),1)+1+32 -> 46324 | F17: =DATE($B$3,$B$4,1)-WEEKDAY(DATE($B$3,$B$4,1),1)+1+33 -> 46325 | G17: =DATE($B$3,$B$4,1)-WEEKDAY(DATE($B$3,$B$4,1),1)+1+34 -> 46326
A18: =IFERROR(INDEX(Programs!$B$2:$B$200,MATCH(A17,Programs!$A$2:$A$200,0)),"") | B18: =IFERROR(INDEX(Programs!$B$2:$B$200,MATCH(B17,Programs!$A$2:$A$200,0)),"") | C18: =IFERROR(INDEX(Programs!$B$2:$B$200,MATCH(C17,Programs!$A$2:$A$200,0)),"") | D18: =IFERROR(INDEX(Programs!$B$2:$B$200,MATCH(D17,Programs!$A$2:$A$200,0)),"") | E18: =IFERROR(INDEX(Programs!$B$2:$B$200,MATCH(E17,Programs!$A$2:$A$200,0)),"") | F18: =IFERROR(INDEX(Programs!$B$2:$B$200,MATCH(F17,Programs!$A$2:$A$200,0)),"") | G18: =IFERROR(INDEX(Programs!$B$2:$B$200,MATCH(G17,Programs!$A$2:$A$200,0)),"")
A19: =DATE($B$3,$B$4,1)-WEEKDAY(DATE($B$3,$B$4,1),1)+1+35 -> 46327 | B19: =DATE($B$3,$B$4,1)-WEEKDAY(DATE($B$3,$B$4,1),1)+1+36 -> 46328 | C19: =DATE($B$3,$B$4,1)-WEEKDAY(DATE($B$3,$B$4,1),1)+1+37 -> 46329 | D19: =DATE($B$3,$B$4,1)-WEEKDAY(DATE($B$3,$B$4,1),1)+1+38 -> 46330 | E19: =DATE($B$3,$B$4,1)-WEEKDAY(DATE($B$3,$B$4,1),1)+1+39 -> 46331 | F19: =DATE($B$3,$B$4,1)-WEEKDAY(DATE($B$3,$B$4,1),1)+1+40 -> 46332 | G19: =DATE($B$3,$B$4,1)-WEEKDAY(DATE($B$3,$B$4,1),1)+1+41 -> 46333
A20: =IFERROR(INDEX(Programs!$B$2:$B$200,MATCH(A19,Programs!$A$2:$A$200,0)),"") | B20: =IFERROR(INDEX(Programs!$B$2:$B$200,MATCH(B19,Programs!$A$2:$A$200,0)),"") | C20: =IFERROR(INDEX(Programs!$B$2:$B$200,MATCH(C19,Programs!$A$2:$A$200,0)),"") | D20: =IFERROR(INDEX(Programs!$B$2:$B$200,MATCH(D19,Programs!$A$2:$A$200,0)),"") | E20: =IFERROR(INDEX(Programs!$B$2:$B$200,MATCH(E19,Programs!$A$2:$A$200,0)),"") | F20: =IFERROR(INDEX(Programs!$B$2:$B$200,MATCH(F19,Programs!$A$2:$A$200,0)),"") | G20: =IFERROR(INDEX(Programs!$B$2:$B$200,MATCH(G19,Programs!$A$2:$A$200,0)),"")

Sheet Programs
A1: Date | B1: Program | C1: Type | D1: Venue | F1: How to use
A2: 46310 | B2: EXAMPLE - Time & Motion Study workshop | C2: Training | D2: BPC Office, Goregaon (E) | F2: Enter one program per row. Blue text = your input.
F3: Date must be a real date (e.g. 15-Oct-2026).
F4: If two programs fall on one date, the calendar shows the first one listed.
F5: Rows 2-200 are read by the calendar.
